BEGIN:VCALENDAR
VERSION:2.0
PRODID:-//Common Thread Church - ECPv6.15.20//NONSGML v1.0//EN
CALSCALE:GREGORIAN
METHOD:PUBLISH
X-WR-CALNAME:Common Thread Church
X-ORIGINAL-URL:https://commonthreadchurch.org
X-WR-CALDESC:Events for Common Thread Church
REFRESH-INTERVAL;VALUE=DURATION:PT1H
X-Robots-Tag:noindex
X-PUBLISHED-TTL:PT1H
BEGIN:VTIMEZONE
TZID:America/New_York
BEGIN:DAYLIGHT
TZOFFSETFROM:-0500
TZOFFSETTO:-0400
TZNAME:EDT
DTSTART:20250309T070000
END:DAYLIGHT
BEGIN:STANDARD
TZOFFSETFROM:-0400
TZOFFSETTO:-0500
TZNAME:EST
DTSTART:20251102T060000
END:STANDARD
BEGIN:DAYLIGHT
TZOFFSETFROM:-0500
TZOFFSETTO:-0400
TZNAME:EDT
DTSTART:20260308T070000
END:DAYLIGHT
BEGIN:STANDARD
TZOFFSETFROM:-0400
TZOFFSETTO:-0500
TZNAME:EST
DTSTART:20261101T060000
END:STANDARD
BEGIN:DAYLIGHT
TZOFFSETFROM:-0500
TZOFFSETTO:-0400
TZNAME:EDT
DTSTART:20270314T070000
END:DAYLIGHT
BEGIN:STANDARD
TZOFFSETFROM:-0400
TZOFFSETTO:-0500
TZNAME:EST
DTSTART:20271107T060000
END:STANDARD
END:VTIMEZONE
BEGIN:VEVENT
DTSTART;TZID=America/New_York:20260425T120000
DTEND;TZID=America/New_York:20260425T133000
DTSTAMP:20260423T094013
CREATED:20260422T185551Z
LAST-MODIFIED:20260422T185612Z
UID:83389-1777118400-1777123800@commonthreadchurch.org
SUMMARY:ONE Wake House Meeting Training
DESCRIPTION:Train With Us and Refresh Your Core Team Training \nJoin leaders from ONE Wake institutions as we build relationships with those among us who would like to buy or rent places to live in Wake County\, but are having difficulty doing so due to cost and/or lack of affordable housing inventory.  Learn how to host listening sessions in small groups so that we can turn out at least 10 people from each institution to represent those who would directly benefit from our push for more affordable housing. \nThis training is excellent for all members as we will review basic techniques for organizing\, listening and building power within our own communities. Sign up and bring several members with you! \nRSVP on ONE Wake site here
URL:https://commonthreadchurch.org/event/one-wake-house-meeting-training/
LOCATION:Watts Chapel Missionary Baptist Church
CATEGORIES:All Events,ONE Wake
ATTACH;FMTTYPE=image/jpeg:https://commonthreadchurch.org/wp-content/uploads/2026/04/devin_katia-scaled.jpg
END:VEVENT
END:VCALENDAR